BEGIN:VCALENDAR
VERSION:2.0
PRODID:-//The Society for Clinical and Medical Hair Removal - ECPv6.13.2.1//NONSGML v1.0//EN
CALSCALE:GREGORIAN
METHOD:PUBLISH
X-WR-CALNAME:The Society for Clinical and Medical Hair Removal
X-ORIGINAL-URL:https://www.scmhr.org
X-WR-CALDESC:Events for The Society for Clinical and Medical Hair Removal
REFRESH-INTERVAL;VALUE=DURATION:PT1H
X-Robots-Tag:noindex
X-PUBLISHED-TTL:PT1H
BEGIN:VTIMEZONE
TZID:America/New_York
BEGIN:DAYLIGHT
TZOFFSETFROM:-0500
TZOFFSETTO:-0400
TZNAME:EDT
DTSTART:20250309T070000
END:DAYLIGHT
BEGIN:STANDARD
TZOFFSETFROM:-0400
TZOFFSETTO:-0500
TZNAME:EST
DTSTART:20251102T060000
END:STANDARD
END:VTIMEZONE
BEGIN:VEVENT
DTSTART;TZID=America/New_York:20250519T200000
DTEND;TZID=America/New_York:20250519T220000
DTSTAMP:20260419T134928
CREATED:20250513T192143Z
LAST-MODIFIED:20250515T143421Z
UID:17407-1747684800-1747692000@www.scmhr.org
SUMMARY:The State of Social Media in 2025
DESCRIPTION:Presented by: Yvonne Vidal\, Owner\, CEO of The Social Butterfly Media Consulting\, LLC. \nTune in to learn the latest updates for Instagram\, Facebook & the Fate of TikTok. We will talk about how to keep your accounts safe from hackers\, as well as how to tailor your content for your audience to attract more customers.
URL:https://www.scmhr.org/event/social_media/
CATEGORIES:SCMHR Live Webinars
END:VEVENT
END:VCALENDAR