BEGIN:VCALENDAR
VERSION:2.0
PRODID:-//The Society for Clinical and Medical Hair Removal - ECPv6.13.2.1//NONSGML v1.0//EN
CALSCALE:GREGORIAN
METHOD:PUBLISH
X-WR-CALNAME:The Society for Clinical and Medical Hair Removal
X-ORIGINAL-URL:https://www.scmhr.org
X-WR-CALDESC:Events for The Society for Clinical and Medical Hair Removal
REFRESH-INTERVAL;VALUE=DURATION:PT1H
X-Robots-Tag:noindex
X-PUBLISHED-TTL:PT1H
BEGIN:VTIMEZONE
TZID:America/New_York
BEGIN:DAYLIGHT
TZOFFSETFROM:-0500
TZOFFSETTO:-0400
TZNAME:EDT
DTSTART:20240310T070000
END:DAYLIGHT
BEGIN:STANDARD
TZOFFSETFROM:-0400
TZOFFSETTO:-0500
TZNAME:EST
DTSTART:20241103T060000
END:STANDARD
END:VTIMEZONE
BEGIN:VEVENT
DTSTART;TZID=America/New_York:20240826T200000
DTEND;TZID=America/New_York:20240826T220000
DTSTAMP:20260419T153528
CREATED:20240808T202324Z
LAST-MODIFIED:20240815T152259Z
UID:16576-1724702400-1724709600@www.scmhr.org
SUMMARY:Social Media and Marketing Best Practices 2024
DESCRIPTION:Social Media and Marketing Best Practices 2024\nPresented by Yvonne Vidal \nYvonne Vidal\, Owner\, CEO of The Social Butterfly Media Consulting\, LLC.\nMy goal is to help businesses maximize their understanding of how to reach their target population. Using effective social media strategies\, I work with clients to get a “PhD” in their customers behaviors and use the patterns to improve their return on investment. With a bachelors & masters degree in Psychology\, I have dedicated 10 years to helping businesses\, of all diversities\, evolve their marketing strategies and stay ahead of the digital curve.
URL:https://www.scmhr.org/event/aug-26-webinar/
CATEGORIES:SCMHR Live Webinars
END:VEVENT
END:VCALENDAR