BEGIN:VCALENDAR
VERSION:2.0
PRODID:-//The Society for Clinical and Medical Hair Removal - ECPv6.13.2.1//NONSGML v1.0//EN
CALSCALE:GREGORIAN
METHOD:PUBLISH
X-ORIGINAL-URL:https://www.scmhr.org
X-WR-CALDESC:Events for The Society for Clinical and Medical Hair Removal
REFRESH-INTERVAL;VALUE=DURATION:PT1H
X-Robots-Tag:noindex
X-PUBLISHED-TTL:PT1H
BEGIN:VTIMEZONE
TZID:America/New_York
BEGIN:DAYLIGHT
TZOFFSETFROM:-0500
TZOFFSETTO:-0400
TZNAME:EDT
DTSTART:20170312T070000
END:DAYLIGHT
BEGIN:STANDARD
TZOFFSETFROM:-0400
TZOFFSETTO:-0500
TZNAME:EST
DTSTART:20171105T060000
END:STANDARD
BEGIN:DAYLIGHT
TZOFFSETFROM:-0500
TZOFFSETTO:-0400
TZNAME:EDT
DTSTART:20180311T070000
END:DAYLIGHT
BEGIN:STANDARD
TZOFFSETFROM:-0400
TZOFFSETTO:-0500
TZNAME:EST
DTSTART:20181104T060000
END:STANDARD
BEGIN:DAYLIGHT
TZOFFSETFROM:-0500
TZOFFSETTO:-0400
TZNAME:EDT
DTSTART:20190310T070000
END:DAYLIGHT
BEGIN:STANDARD
TZOFFSETFROM:-0400
TZOFFSETTO:-0500
TZNAME:EST
DTSTART:20191103T060000
END:STANDARD
BEGIN:DAYLIGHT
TZOFFSETFROM:-0500
TZOFFSETTO:-0400
TZNAME:EDT
DTSTART:20200308T070000
END:DAYLIGHT
BEGIN:STANDARD
TZOFFSETFROM:-0400
TZOFFSETTO:-0500
TZNAME:EST
DTSTART:20201101T060000
END:STANDARD
END:VTIMEZONE
BEGIN:VEVENT
DTSTART;VALUE=DATE:20200517
DTEND;VALUE=DATE:20200518
DTSTAMP:20260419T170522
CREATED:20191203T215605Z
LAST-MODIFIED:20191203T215605Z
UID:11497-1589673600-1589759999@www.scmhr.org
SUMMARY:Laser Updates\, Safety\, and Laser Safety Officer
DESCRIPTION:Provided by Esthetics and Laser Specialties (Fadia Hoyek\, CME) and approved for 10 live continuing education hours. Description: Electrologists and CMEs will be introduced to the newest laser technologies\, ANSI safety measurements and laser safety officer role in their practices to protect themselves and their clients.  For more information\, please contact Fadia Hoyek at Fadiahk@aol.com or 954-854-0562.
URL:https://www.scmhr.org/event/laser-updates-safety-and-laser-safety-officer-2/
CATEGORIES:Other CEU Events
END:VEVENT
BEGIN:VEVENT
DTSTART;VALUE=DATE:20200503
DTEND;VALUE=DATE:20200504
DTSTAMP:20260419T170522
CREATED:20200124T152549Z
LAST-MODIFIED:20200124T152549Z
UID:11669-1588464000-1588550399@www.scmhr.org
SUMMARY:Electrology Association of Florida Meeting
DESCRIPTION:Location: Fort Lauderdale\, FL. This event has been approved by SCMHR for seven continuing education hours (.70 units). For more information\, please contact Goldie Silber at goldie.silber@gmail.com.
URL:https://www.scmhr.org/event/electrology-association-of-florida-meeting/
CATEGORIES:Other CEU Events
END:VEVENT
BEGIN:VEVENT
DTSTART;VALUE=DATE:20200419
DTEND;VALUE=DATE:20200420
DTSTAMP:20260419T170522
CREATED:20191204T222746Z
LAST-MODIFIED:20191204T222823Z
UID:11504-1587254400-1587340799@www.scmhr.org
SUMMARY:General Electrolysis/Laser Updates Including Boosting Your Business
DESCRIPTION:Provided by Esthetics and Laser Specialties (Fadia Hoyek\, CME) and approved for 10 live continuing education hours. Description: Electrologists and CMEs will be introduced to the newest in electrolysis and laser technology. Additional information will be provided on how to grow your markets\, client retention and boosting businesses in a challenging market. For more information\, please contact Fadia Hoyek at Fadiahk@aol.com or 954-854-0562.
URL:https://www.scmhr.org/event/general-electrolysis-laser-updates-including-boosting-your-business/
CATEGORIES:Other CEU Events
END:VEVENT
BEGIN:VEVENT
DTSTART;VALUE=DATE:20200321
DTEND;VALUE=DATE:20200322
DTSTAMP:20260419T170522
CREATED:20200225T163033Z
LAST-MODIFIED:20200225T163158Z
UID:11897-1584748800-1584835199@www.scmhr.org
SUMMARY:Cindy Cassady School of Electrology\, Health and Beauty CEU Event
DESCRIPTION:This event has been approved by SCMHR for 4 live hours of continuing education. For more information\, please contact Cindy Cassady at 850-478-3362.
URL:https://www.scmhr.org/event/cindy-cassady-school-of-electrology-health-and-beauty-ceu-event/
CATEGORIES:Other CEU Events
END:VEVENT
BEGIN:VEVENT
DTSTART;VALUE=DATE:20200314
DTEND;VALUE=DATE:20200315
DTSTAMP:20260419T170522
CREATED:20191203T215445Z
LAST-MODIFIED:20191203T215445Z
UID:11493-1584144000-1584230399@www.scmhr.org
SUMMARY:Laser Updates\, Safety\, and Laser Safety Officer
DESCRIPTION:Provided by Esthetics and Laser Specialties (Fadia Hoyek\, CME) and approved for 10 live continuing education hours. Description: Electrologists and CMEs will be introduced to the newest laser technologies\, ANSI safety measurements and laser safety officer role in their practices to protect themselves and their clients.  For more information\, please contact Fadia Hoyek at Fadiahk@aol.com or 954-854-0562.
URL:https://www.scmhr.org/event/laser-updates-safety-and-laser-safety-officer/
CATEGORIES:Other CEU Events
END:VEVENT
BEGIN:VEVENT
DTSTART;VALUE=DATE:20200215
DTEND;VALUE=DATE:20200216
DTSTAMP:20260419T170522
CREATED:20191010T185830Z
LAST-MODIFIED:20191010T185941Z
UID:11019-1581724800-1581811199@www.scmhr.org
SUMMARY:Review of Theory and Practical Application of Laser and Light-Assisted Hair Growth Reduction
DESCRIPTION:This program is designed to review students in the theory and practical application of laser and light-assisted hair growth reduction and delay. Educator will review students in hair anatomy and growth\, past and present applications available for affecting hair growth\, the history of laser and light-assisted hair removal systems\, federal and state government regulations\, and the areas of potential employment in the field. \n\n\nFor information\, please contact Robert Babani at info@bellas.edu or rbabani@bellasa.edu\, or by phone at 954-589-2558. \n\nThis program is approved by SCMHR for 20 hours of continuing education. \n 
URL:https://www.scmhr.org/event/review-of-theory-and-practical-application-of-laser-and-light-assisted-hair-growth-reduction-2/
CATEGORIES:Other CEU Events
END:VEVENT
BEGIN:VEVENT
DTSTART;VALUE=DATE:20200209
DTEND;VALUE=DATE:20200210
DTSTAMP:20260419T170522
CREATED:20191204T222624Z
LAST-MODIFIED:20191204T222913Z
UID:11500-1581206400-1581292799@www.scmhr.org
SUMMARY:General Electrolysis/Laser Updates and Boosting your Business
DESCRIPTION:Provided by Esthetics and Laser Specialties (Fadia Hoyek\, CME) and approved for 10 live continuing education hours. Description: Electrologists and CMEs will be introduced to the newest in electrolysis and laser technology. Additional information will be provided on how to grow your markets\, client retention and boosting businesses in a challenging market. For more information\, please contact Fadia Hoyek at Fadiahk@aol.com or 954-854-0562.
URL:https://www.scmhr.org/event/general-electrolysis-laser-updates-and-boosting-your-business/
CATEGORIES:Other CEU Events
END:VEVENT
BEGIN:VEVENT
DTSTART;VALUE=DATE:20200111
DTEND;VALUE=DATE:20200112
DTSTAMP:20260419T170522
CREATED:20191010T185454Z
LAST-MODIFIED:20191010T185701Z
UID:11014-1578700800-1578787199@www.scmhr.org
SUMMARY:Review of Theory and Practical Application of Laser and Light-Assisted Hair Growth Reduction
DESCRIPTION:This program is designed to review students in the theory and practical application of laser and light-assisted hair growth reduction and delay. Educator will review students in hair anatomy and growth\, past and present applications available for affecting hair growth\, the history of laser and light-assisted hair removal systems\, federal and state government regulations\, and the areas of potential employment in the field. \n\nFor information\, please contact Robert Babani at info@bellas.edu or rbabani@bellasa.edu\, or by phone at 954-589-2558. \n\nThis program is approved by SCMHR for 20 hours of continuing education.
URL:https://www.scmhr.org/event/review-of-theory-and-practical-application-of-laser-and-light-assisted-hair-growth-reduction/
CATEGORIES:Other CEU Events
END:VEVENT
BEGIN:VEVENT
DTSTART;VALUE=DATE:20191116
DTEND;VALUE=DATE:20191117
DTSTAMP:20260419T170522
CREATED:20191003T172555Z
LAST-MODIFIED:20191003T172555Z
UID:10972-1573862400-1573948799@www.scmhr.org
SUMMARY:Advances in Electrolysis and Laser Devices and How to Start Your Own Business
DESCRIPTION:Approved for 10 live hours of continuing education. For additional information\, please visit www.estheticsandlaserspecialty.com or contact Fadia Hoyek at 954-854-0562 or fadiahk@aol.com
URL:https://www.scmhr.org/event/advances-in-electrolysis-and-laser-devices-and-how-to-start-your-own-business/
CATEGORIES:Other CEU Events
ORGANIZER;CN="Esthetics and Laser Specialty":MAILTO:fadiahk@aol.com
END:VEVENT
BEGIN:VEVENT
DTSTART;VALUE=DATE:20191109
DTEND;VALUE=DATE:20191110
DTSTAMP:20260419T170522
CREATED:20190724T143215Z
LAST-MODIFIED:20190724T143215Z
UID:10537-1573257600-1573343999@www.scmhr.org
SUMMARY:Laser Hair Removal & Electrology Treatment Considerations
DESCRIPTION:Learner Objective: This 10-hour program is designed to provide information regarding the practice of electrology and laser hair removal to electrologists who want to refresh or add to their base of knowledge regarding the profession.
URL:https://www.scmhr.org/event/laser-hair-removal-electrology-treatment-considerations-2/
CATEGORIES:Other CEU Events
END:VEVENT
BEGIN:VEVENT
DTSTART;VALUE=DATE:20191103
DTEND;VALUE=DATE:20191104
DTSTAMP:20260419T170522
CREATED:20191003T173152Z
LAST-MODIFIED:20191003T173152Z
UID:10977-1572739200-1572825599@www.scmhr.org
SUMMARY:Electrology Association of Florida (EAF) Fall Meeting
DESCRIPTION:Electrology Association of Florida November 3\, 2019. Location: Fort Lauderdale\, Florida. Offering 7 hours of continuing education. for more information\, please contact Goldie Silber at goldie.silber@gmail.com.
URL:https://www.scmhr.org/event/electrology-association-of-florida-eaf-fall-meeting/
CATEGORIES:Other CEU Events
END:VEVENT
BEGIN:VEVENT
DTSTART;TZID=America/New_York:20190921T090000
DTEND;TZID=America/New_York:20190921T160000
DTSTAMP:20260419T170522
CREATED:20190725T171754Z
LAST-MODIFIED:20190725T171835Z
UID:10544-1569056400-1569081600@www.scmhr.org
SUMMARY:ESF Meeting
DESCRIPTION:Six-hour continuing education event sponsored by the Electrology Society of Florida. Location: Embassy Suites\, Altamonte Springs\, Florida. For more information\, please contact Karen Hermanspan at twino@bellsouth.net.
URL:https://www.scmhr.org/event/esf-meeting/
CATEGORIES:Other CEU Events
END:VEVENT
BEGIN:VEVENT
DTSTART;TZID=America/New_York:20190921T083000
DTEND;TZID=America/New_York:20190921T200000
DTSTAMP:20260419T170522
CREATED:20190724T142805Z
LAST-MODIFIED:20190725T165741Z
UID:10534-1569054600-1569096000@www.scmhr.org
SUMMARY:Laser Hair Removal & Electrology Treatment Considerations
DESCRIPTION:This 10-hour course is designed to provide information regarding the practice of electrology and laser hair removal to electrologists who want to refresh or add to their base of knowledge regarding the profession. For additional information or to register\, please contact Ronald Brunette\, Gulf Coast Academy\, Naples\, Florida at flsoe@me.com or 941-626-8720.
URL:https://www.scmhr.org/event/laser-hair-removal-electrology-treatment-considerations/
CATEGORIES:Other CEU Events
END:VEVENT
BEGIN:VEVENT
DTSTART;TZID=America/New_York:20190209T073000
DTEND;TZID=America/New_York:20190209T163000
DTSTAMP:20260419T170522
CREATED:20181219T184233Z
LAST-MODIFIED:20181219T184233Z
UID:9304-1549697400-1549729800@www.scmhr.org
SUMMARY:Electrology Society of Florida Meeting
DESCRIPTION:Embassy Suites\, Altamonte Springs\, Florida. Approved by SCMHR for six (6) hours of live continuing education. For more information\, please contact Karen Hermanspan at twino@bellsouth.net.
URL:https://www.scmhr.org/event/electrology-society-of-florida-meeting/
CATEGORIES:Other CEU Events
END:VEVENT
BEGIN:VEVENT
DTSTART;VALUE=DATE:20181021
DTEND;VALUE=DATE:20181022
DTSTAMP:20260419T170522
CREATED:20180905T154957Z
LAST-MODIFIED:20180905T155850Z
UID:8856-1540080000-1540166399@www.scmhr.org
SUMMARY:Electrology Association of Florida (EAF) Meeting
DESCRIPTION:Location: Fort Lauderdale\, Florida\nThis meeting has been approved by SCMHR for 7 hours of continuing education. For more information\, please contact Goldie Silber at goldie.silber@gmail.com.
URL:https://www.scmhr.org/event/electrology-association-of-florida-eaf-meeting/
CATEGORIES:Other CEU Events
END:VEVENT
BEGIN:VEVENT
DTSTART;VALUE=DATE:20180520
DTEND;VALUE=DATE:20180521
DTSTAMP:20260419T170522
CREATED:20180321T160858Z
LAST-MODIFIED:20180321T160940Z
UID:6183-1526774400-1526860799@www.scmhr.org
SUMMARY:Electrology Association of Florida
DESCRIPTION:Location: Fort Lauderdale\, Florida. Offering 7 hours of continuing education. for more information\, please contact Goldie Silber at goldie.silber@gmail.com.
URL:https://www.scmhr.org/event/electrology-association-of-florida-2/
CATEGORIES:Other CEU Events
END:VEVENT
BEGIN:VEVENT
DTSTART;VALUE=DATE:20180519
DTEND;VALUE=DATE:20180520
DTSTAMP:20260419T170522
CREATED:20180129T015622Z
LAST-MODIFIED:20180129T015622Z
UID:3675-1526688000-1526774399@www.scmhr.org
SUMMARY:Esthetics and Laser Specialty CEU Event
DESCRIPTION:Location: Coral Springs\, Florida. For information\, visit www.estheticsandlaserspecialty.com (click on seminars/CEUs)\, or call Fadia Hoyek at 954-854-0562.
URL:https://www.scmhr.org/event/esthetics-and-laser-specialty-ceu-event-3/
CATEGORIES:Other CEU Events
END:VEVENT
BEGIN:VEVENT
DTSTART;VALUE=DATE:20180428
DTEND;VALUE=DATE:20180430
DTSTAMP:20260419T170522
CREATED:20180321T160545Z
LAST-MODIFIED:20180321T160545Z
UID:6177-1524873600-1525046399@www.scmhr.org
SUMMARY:Florida Medical College Live CEU Event
DESCRIPTION:Location: Miami\, FL. For more information\, please contact fmedcollege@gmail.com.
URL:https://www.scmhr.org/event/florida-medical-college-live-ceu-event/
CATEGORIES:Other CEU Events
END:VEVENT
BEGIN:VEVENT
DTSTART;VALUE=DATE:20180428
DTEND;VALUE=DATE:20180429
DTSTAMP:20260419T170522
CREATED:20180129T014813Z
LAST-MODIFIED:20180129T014813Z
UID:3668-1524873600-1524959999@www.scmhr.org
SUMMARY:Laser Hair Removal for the Electrologist
DESCRIPTION:Location: North Port\, Florida. One-day\, 10-hour live event presented by Gulf Coast Academy. For information\, please contact Ron Brunette\, CME\, at flsoe@me.com or 941-626-8720.
URL:https://www.scmhr.org/event/laser-hair-removal-for-the-electrologist-2/
CATEGORIES:Other CEU Events
END:VEVENT
BEGIN:VEVENT
DTSTART;VALUE=DATE:20180414
DTEND;VALUE=DATE:20180415
DTSTAMP:20260419T170522
CREATED:20180321T161135Z
LAST-MODIFIED:20180321T161202Z
UID:6188-1523664000-1523750399@www.scmhr.org
SUMMARY:Bellasa Professional Institute Live CEU Event
DESCRIPTION:Location: Aventura\, FL. For additional information\, please contact info@bellasainstitute.com.
URL:https://www.scmhr.org/event/bellasa-professional-institute-live-ceu-event/
CATEGORIES:Other CEU Events
END:VEVENT
BEGIN:VEVENT
DTSTART;VALUE=DATE:20180414
DTEND;VALUE=DATE:20180415
DTSTAMP:20260419T170522
CREATED:20180129T014236Z
LAST-MODIFIED:20180129T014347Z
UID:3660-1523664000-1523750399@www.scmhr.org
SUMMARY:Esthetics and Laser Specialty CEU Event
DESCRIPTION:Location: Coral Springs\, Florida. For information\, visit www.estheticsandlaserspecialty.com (click on seminars/CEUs)\, or call Fadia Hoyek at 954-854-0562.
URL:https://www.scmhr.org/event/esthetics-and-laser-specialty-ceu-event-2/
CATEGORIES:Other CEU Events
END:VEVENT
BEGIN:VEVENT
DTSTART;VALUE=DATE:20180310
DTEND;VALUE=DATE:20180311
DTSTAMP:20260419T170522
CREATED:20180129T013613Z
LAST-MODIFIED:20180129T013613Z
UID:3652-1520640000-1520726399@www.scmhr.org
SUMMARY:Esthetics and Laser Specialty CEU Event
DESCRIPTION:Locations: Coral Springs\, Florida. For information\, visit www.estheticsandlaserspecialty.com (click on seminars/CEUs)\, or call Fadia Hoyek at 954-854-0562.
URL:https://www.scmhr.org/event/esthetics-and-laser-specialty-ceu-event/
CATEGORIES:Other CEU Events
END:VEVENT
BEGIN:VEVENT
DTSTART;VALUE=DATE:20180224
DTEND;VALUE=DATE:20180225
DTSTAMP:20260419T170522
CREATED:20180130T000028Z
LAST-MODIFIED:20180130T000028Z
UID:3686-1519430400-1519516799@www.scmhr.org
SUMMARY:Laser and Light-Based Hair Removal: Update and Complications
DESCRIPTION:Presented by the Florida Medical College\, Miami\, Florida. Offering 16-hours of continuing education over two consecutive Saturdays\, February 17th and 24th. For more information\, please contact the Florida Medical College at fmedcollege@gmail.com.
URL:https://www.scmhr.org/event/laser-and-light-based-hair-removal-update-and-complications/
CATEGORIES:Other CEU Events
END:VEVENT
BEGIN:VEVENT
DTSTART;VALUE=DATE:20180224
DTEND;VALUE=DATE:20180225
DTSTAMP:20260419T170522
CREATED:20180129T013346Z
LAST-MODIFIED:20180129T013425Z
UID:3648-1519430400-1519516799@www.scmhr.org
SUMMARY:Laser Hair Removal for the Electrologist
DESCRIPTION:Location: North Port\, Florida. One-day\, 10-hour live event presented by Gulf Coast Academy. For information\, please contact Ron Brunette\, CME\, at flsoe@me.com or 941-626-8720.
URL:https://www.scmhr.org/event/laser-hair-removal-for-the-electrologist/
CATEGORIES:Other CEU Events
END:VEVENT
BEGIN:VEVENT
DTSTART;VALUE=DATE:20180217
DTEND;VALUE=DATE:20180218
DTSTAMP:20260419T170522
CREATED:20180129T235858Z
LAST-MODIFIED:20180129T235858Z
UID:3683-1518825600-1518911999@www.scmhr.org
SUMMARY:Laser and Light-Based Hair Removal: Updates and Complications
DESCRIPTION:Presented by the Florida Medical College\, Miami\, Florida. Offering 16-hours of continuing education over two consecutive Saturdays\, February 17th and 24th. For more information\, please contact the Florida Medical College at fmedcollege@gmail.com.
URL:https://www.scmhr.org/event/laser-and-light-based-hair-removal-updates-and-complications/
CATEGORIES:Other CEU Events
END:VEVENT
BEGIN:VEVENT
DTSTART;VALUE=DATE:20180210
DTEND;VALUE=DATE:20180212
DTSTAMP:20260419T170522
CREATED:20180129T012553Z
LAST-MODIFIED:20180129T012646Z
UID:3638-1518220800-1518393599@www.scmhr.org
SUMMARY:Electrology Society of Florida
DESCRIPTION:Altamonte Springs\, Florida. Contact Jessica Brasington at Advancedhairskin@yahoo.com or 352-331-6797.
URL:https://www.scmhr.org/event/electrology-association-of-florida/
CATEGORIES:Other CEU Events
END:VEVENT
BEGIN:VEVENT
DTSTART;VALUE=DATE:20180210
DTEND;VALUE=DATE:20180211
DTSTAMP:20260419T170522
CREATED:20180129T012311Z
LAST-MODIFIED:20180129T012322Z
UID:3635-1518220800-1518307199@www.scmhr.org
SUMMARY:Esthetics and Laser Specialty Live CEU Event
DESCRIPTION:Location: Coral Springs\, FL. For information\, visit www.estheticsandlaserspecialty.com (click on seminars/CEUs)\, or call Fadia Hoyek at 954-854-0562.
URL:https://www.scmhr.org/event/esthetics-and-laser-specialty-live-ceu-event/
CATEGORIES:Other CEU Events
END:VEVENT
BEGIN:VEVENT
DTSTART;TZID=America/New_York:20171202T100000
DTEND;TZID=America/New_York:20171202T120000
DTSTAMP:20260419T170522
CREATED:20171224T154509Z
LAST-MODIFIED:20171224T154509Z
UID:1378-1512208800-1512216000@www.scmhr.org
SUMMARY:Laser Safety Officer
DESCRIPTION:This course is SCMHR-approved for 10 hours of continuing education. For more information\, please contact Fadia Hoyek. \nLocation:Coral Springs\, FL
URL:https://www.scmhr.org/event/laser-safety-officer/
CATEGORIES:Other CEU Events
END:VEVENT
BEGIN:VEVENT
DTSTART;TZID=America/New_York:20171118T100000
DTEND;TZID=America/New_York:20171118T120000
DTSTAMP:20260419T170522
CREATED:20171226T224135Z
LAST-MODIFIED:20171226T224135Z
UID:1419-1510999200-1511006400@www.scmhr.org
SUMMARY:Esthetics and Laser Specialty
DESCRIPTION:SCMHR approved for 10 hours of continuing education. For more information\, please contact Fadia Hoyek at fadiahk@aol.com. \nLocation: Coral Springs\, FL
URL:https://www.scmhr.org/event/esthetics-and-laser-specialty/
CATEGORIES:Other CEU Events
END:VEVENT
END:VCALENDAR