BEGIN:VCALENDAR
VERSION:2.0
PRODID:-//The Society for Clinical and Medical Hair Removal - ECPv6.13.2.1//NONSGML v1.0//EN
CALSCALE:GREGORIAN
METHOD:PUBLISH
X-WR-CALNAME:The Society for Clinical and Medical Hair Removal
X-ORIGINAL-URL:https://www.scmhr.org
X-WR-CALDESC:Events for The Society for Clinical and Medical Hair Removal
REFRESH-INTERVAL;VALUE=DURATION:PT1H
X-Robots-Tag:noindex
X-PUBLISHED-TTL:PT1H
BEGIN:VTIMEZONE
TZID:America/New_York
BEGIN:DAYLIGHT
TZOFFSETFROM:-0500
TZOFFSETTO:-0400
TZNAME:EDT
DTSTART:20260308T070000
END:DAYLIGHT
BEGIN:STANDARD
TZOFFSETFROM:-0400
TZOFFSETTO:-0500
TZNAME:EST
DTSTART:20261101T060000
END:STANDARD
END:VTIMEZONE
BEGIN:VEVENT
DTSTART;VALUE=DATE:20260117
DTEND;VALUE=DATE:20260118
DTSTAMP:20260419T171757
CREATED:20250924T185332Z
LAST-MODIFIED:20250924T185657Z
UID:17968-1768608000-1768694399@www.scmhr.org
SUMMARY:Gulf Coast Academy Electrolysis & Laser Hair Removal 10-hour Live CEU Course
DESCRIPTION:Location: Gulf Coast Academy. This 10-hour live CEU course is designed for licensed estheticians\, electrologists\, or medical professionals seeking to enhance their understanding and application of laser hair removal and electrology techniques. Participants will engage in theoretical review and hands-on practice\, focusing on safety\, efficacy\, updated protocols\, and client outcomes. This event has been approved by SCMHR for 10 live hours of continuing education. For more information\, please contact Gulf Coast Academy at 239-949-0251 or gulfcoastacademyswfl@gmail.com.
URL:https://www.scmhr.org/event/gulf-coast-academy-electrolysis-laser-hair-removal-10-hour-live-ceu-course-2/
CATEGORIES:Other CEU Events
END:VEVENT
END:VCALENDAR