BEGIN:VCALENDAR
VERSION:2.0
PRODID:-//The Society for Clinical and Medical Hair Removal - ECPv6.13.2.1//NONSGML v1.0//EN
CALSCALE:GREGORIAN
METHOD:PUBLISH
X-ORIGINAL-URL:https://www.scmhr.org
X-WR-CALDESC:Events for The Society for Clinical and Medical Hair Removal
REFRESH-INTERVAL;VALUE=DURATION:PT1H
X-Robots-Tag:noindex
X-PUBLISHED-TTL:PT1H
BEGIN:VTIMEZONE
TZID:America/New_York
BEGIN:DAYLIGHT
TZOFFSETFROM:-0500
TZOFFSETTO:-0400
TZNAME:EDT
DTSTART:20220313T070000
END:DAYLIGHT
BEGIN:STANDARD
TZOFFSETFROM:-0400
TZOFFSETTO:-0500
TZNAME:EST
DTSTART:20221106T060000
END:STANDARD
END:VTIMEZONE
BEGIN:VEVENT
DTSTART;TZID=America/New_York:20220507T080000
DTEND;TZID=America/New_York:20220507T203000
DTSTAMP:20260423T063305
CREATED:20220112T144606Z
LAST-MODIFIED:20220112T144624Z
UID:14207-1651910400-1651955400@www.scmhr.org
SUMMARY:Electrolysis and Laser Hair Removal Modus Operandi
DESCRIPTION:Ronald Brunette\, CME\, presents 10 hours of live continuing education for electrologists or laser hair removal professionals who want to refresh or add to their base of knowledge in the industry. Please contact Ron Brunette at flsoe@me.com or 941-626-8720 to register.
URL:https://www.scmhr.org/event/electrolysis-and-laser-hair-removal-modus-operandi-4/
LOCATION:Paulson  Centre\, Port Charlotte\, FL\, 18245 Paulson Drive\, Port Charlotte\, FL\, 33954\, United States
CATEGORIES:Other CEU Events
ORGANIZER;CN="Ron Brunette%2C CME":MAILTO:flsoe@me.com
END:VEVENT
BEGIN:VEVENT
DTSTART;TZID=America/New_York:20220515T080000
DTEND;TZID=America/New_York:20220515T170000
DTSTAMP:20260423T063305
CREATED:20211229T184611Z
LAST-MODIFIED:20211229T184641Z
UID:14178-1652601600-1652634000@www.scmhr.org
SUMMARY:Laser Updates\, Safety\, and Laser Safety Officer
DESCRIPTION:Provided by Broward Beauty Institute\, Coral Springs\, Florida and approved by SCMHR for 10 hours of live continuing education. For additional information or to register\, please contact Fadia Hoyek at BrowardBeautyInstitute@gmail.com.
URL:https://www.scmhr.org/event/laser-updates-safety-and-laser-safety-officer-4/
LOCATION:Coral Springs\, Florida
CATEGORIES:Other CEU Events
END:VEVENT
END:VCALENDAR